BEGIN:VCALENDAR
VERSION:2.0
PRODID:-//Navy Club - ECPv5.2.0//NONSGML v1.0//EN
CALSCALE:GREGORIAN
METHOD:PUBLISH
X-WR-CALNAME:Navy Club
X-ORIGINAL-URL:http://thenavyclub.nz
X-WR-CALDESC:Events for Navy Club
BEGIN:VTIMEZONE
TZID:Pacific/Auckland
BEGIN:STANDARD
TZOFFSETFROM:+1300
TZOFFSETTO:+1200
TZNAME:NZST
DTSTART:20210403T140000
END:STANDARD
BEGIN:DAYLIGHT
TZOFFSETFROM:+1200
TZOFFSETTO:+1300
TZNAME:NZDT
DTSTART:20210925T140000
END:DAYLIGHT
END:VTIMEZONE
BEGIN:VEVENT
DTSTART;TZID=Pacific/Auckland:20210115T123000
DTEND;TZID=Pacific/Auckland:20210115T143000
DTSTAMP:20210123T033350
CREATED:20201201T231058Z
LAST-MODIFIED:20201201T231058Z
UID:35472-1610713800-1610721000@thenavyclub.nz
SUMMARY:Ngapona Lunch
DESCRIPTION:January Luncheon Swanson RSA
URL:http://thenavyclub.nz/event/ngapona-lunch/
CATEGORIES:Ngapona Assn Lunch
END:VEVENT
END:VCALENDAR